{
 "currentVersion": 10.11,
 "serviceDescription": "",
 "mapName": "Layers",
 "description": "",
 "copyrightText": "",
 "supportsDynamicLayers": false,
 "layers": [
  {
   "id": 0,
   "name": "Images.MAPEDIT.NJ_OGIS_2012_Aerials",
   "parentLayerId": -1,
   "defaultVisibility": true,
   "subLayerIds": null,
   "minScale": 0,
   "maxScale": 0
  }
 ],
 "tables": [],
 "spatialReference": {
  "wkid": 102711,
  "latestWkid": 3424
 },
 "singleFusedMapCache": true,
 "tileInfo": {
  "rows": 256,
  "cols": 256,
  "dpi": 96,
  "format": "Mixed",
  "compressionQuality": 75,
  "origin": {
   "x": -17954600,
   "y": 1.8705699999999993E7
  },
  "spatialReference": {
   "wkid": 102711,
   "latestWkid": 3424
  },
  "lods": [
   {
    "level": 0,
    "resolution": 694.4444444444445,
    "scale": 800000
   },
   {
    "level": 1,
    "resolution": 520.8333333333333,
    "scale": 600000
   },
   {
    "level": 2,
    "resolution": 412.32638888888886,
    "scale": 475000
   },
   {
    "level": 3,
    "resolution": 303.8194444444444,
    "scale": 350000
   },
   {
    "level": 4,
    "resolution": 260.41666666666663,
    "scale": 300000
   },
   {
    "level": 5,
    "resolution": 173.61111111111111,
    "scale": 200000
   },
   {
    "level": 6,
    "resolution": 86.80555555555556,
    "scale": 100000
   },
   {
    "level": 7,
    "resolution": 43.40277777777778,
    "scale": 50000
   },
   {
    "level": 8,
    "resolution": 20.833333333333332,
    "scale": 24000
   },
   {
    "level": 9,
    "resolution": 10.416666666666666,
    "scale": 12000
   },
   {
    "level": 10,
    "resolution": 5.208333333333333,
    "scale": 6000
   },
   {
    "level": 11,
    "resolution": 2.083333333333333,
    "scale": 2400
   },
   {
    "level": 12,
    "resolution": 1.0416666666666665,
    "scale": 1200
   },
   {
    "level": 13,
    "resolution": 0.5208333333333333,
    "scale": 600
   }
  ]
 },
 "initialExtent": {
  "xmin": 287500,
  "ymin": 633429.5612009238,
  "xmax": 452500,
  "ymax": 742413.3949191687,
  "spatialReference": {
   "wkid": 102711,
   "latestWkid": 3424
  }
 },
 "fullExtent": {
  "xmin": 295000,
  "ymin": 540000,
  "xmax": 445000,
  "ymax": 720000,
  "spatialReference": {
   "wkid": 102711,
   "latestWkid": 3424
  }
 },
 "minScale": 800000,
 "maxScale": 600,
 "units": "esriFeet",
 "supportedImageFormatTypes": "PNG32,PNG24,PNG,JPG,DIB,TIFF,EMF,PS,PDF,GIF,SVG,SVGZ,BMP",
 "documentInfo": {
  "Title": "",
  "Author": "",
  "Comments": "",
  "Subject": "",
  "Category": "",
  "AntialiasingMode": "None",
  "TextAntialiasingMode": "Force",
  "Keywords": ""
 },
 "capabilities": "Map,Query,Data",
 "supportedQueryFormats": "JSON, AMF",
 "maxRecordCount": 1000,
 "maxImageHeight": 2048,
 "maxImageWidth": 2048
}
